BEGIN:VCALENDAR
VERSION:2.0
PRODID:-//Haus Maria Altenwohn- und Altenpflegeheim GmbH - ECPv4.6.20//NONSGML v1.0//EN
CALSCALE:GREGORIAN
METHOD:PUBLISH
X-WR-CALNAME:Haus Maria Altenwohn- und Altenpflegeheim GmbH
X-ORIGINAL-URL:https://hausmaria.com
X-WR-CALDESC:Veranstaltungen für Haus Maria Altenwohn- und Altenpflegeheim GmbH
BEGIN:VEVENT
DTSTART;TZID=Europe/Berlin:20180327T130000
DTEND;TZID=Europe/Berlin:20180327T170000
DTSTAMP:20260422T090124
CREATED:20180220T082037Z
LAST-MODIFIED:20180329T134106Z
UID:4233-1522155600-1522170000@hausmaria.com
SUMMARY:Modenschau und Bekleidungsverkauf im Haus Maria
DESCRIPTION:Die Frühjahrs- und Sommermode wurde im Rahmen einer  Modeschau am Dienstag den 27. März 2018 wieder in unserem Haus durch die Firma „Seniorshop“ präsentiert. „Senior Shop“ ist ein mobiles Bekleidungsfachgeschäft und bietet schon seit einigen Jahren\, jeweils im Frühjahr und im Herbst seine neuen Kollektionen in unserem Haus an. Zu Beginn der Veranstaltung fand zunächst eine halbstündige Modenschau statt.  \n     \n     \nDazu hatte sich die im Ehrenamt tätige Frau Waltraud Schneider und aus der Mitarbeiterschaft Jenny Müller-Faber\, Jürgen Schwarz und Petra John\, sowie deren Tochter Ann-Kathrin John\, zur Verfügung gestellt und flanierten durch den Saal und präsentierten die modischen Kleidungsstücke. Anschließend hatten unsere Heimbewohner die Möglichkeit unter den ca. 1500 Teile wertiger Damen- und Herrenkleidung\, Tag-\, Nachtwäsche und Schuhen auszuwählen und Kleidungsstücke käuflich zu erwerben. Dieses Angebot wird immer wieder gerne von unseren Heimbewohnern angenommen\, da sie persönlich unter fachkundiger Beratung in aller Ruhe auswählen und anprobieren können. Der nächste Termin zum Seniorshop steht am 30.10.2018 ab 14:00 Uhr an. Dann wird die neue Herbst- und Winterkollektion vorgestellt. \n\n			\n				\n			\n			\n				\n			\n			\n				\n			\n			\n				\n			\n			\n				\n			\n			\n				\n			\n			\n				\n			\n			\n				\n			\n			\n				\n			\n			\n				\n			\n			\n				\n			\n			\n				\n			\n			\n				\n			\n			\n				\n			\n			\n				\n			\n			\n				\n			\n			\n				\n			\n			\n				\n			\n			\n				\n			\n			\n				\n			\n			\n				\n			\n			\n				\n			\n			\n				\n			\n			\n				\n			\n			\n				\n			\n			\n				\n			\n			\n				\n			\n			\n				\n			\n			\n				\n			\n			\n				\n			\n			\n				\n			\n			\n				\n			\n			\n				\n			\n			\n				\n			\n			\n				\n			\n			\n				\n			\n			\n				\n			\n			\n				\n			\n			\n				\n			\n			\n				\n			\n			\n				\n			\n			\n				\n			\n			\n				\n			\n			\n				\n			\n			\n				\n			\n			\n				\n			\n			\n				\n			\n			\n				\n			\n			\n				\n			\n			\n				\n			\n			\n				\n			\n			\n				\n			\n			\n				\n			\n			\n				\n			\n			\n				\n			\n			\n				\n			\n			\n				\n			\n			\n				\n			\n			\n				\n			\n			\n				\n			\n			\n				\n			\n			\n				\n			\n			\n				\n			\n			\n				\n			\n			\n				\n			\n			\n		\n\n  \n  \n  \n
URL:https://hausmaria.com/veranstaltungen/modeschau-und-bekleidungsverkauf-im-haus-maria/
ATTACH;FMTTYPE=image/jpeg:https://hausmaria.com/wp-content/uploads/DSC_05402.jpg
END:VEVENT
END:VCALENDAR