BEGIN:VCALENDAR
VERSION:2.0
PRODID:-//Haus Maria Altenwohn- und Altenpflegeheim GmbH - ECPv4.6.20//NONSGML v1.0//EN
CALSCALE:GREGORIAN
METHOD:PUBLISH
X-WR-CALNAME:Haus Maria Altenwohn- und Altenpflegeheim GmbH
X-ORIGINAL-URL:https://hausmaria.com
X-WR-CALDESC:Veranstaltungen für Haus Maria Altenwohn- und Altenpflegeheim GmbH
BEGIN:VEVENT
DTSTART;TZID=Europe/Berlin:20180822T100000
DTEND;TZID=Europe/Berlin:20180822T170000
DTSTAMP:20260422T090513
CREATED:20180816T094040Z
LAST-MODIFIED:20180816T094040Z
UID:4684-1534932000-1534957200@hausmaria.com
SUMMARY:Haus Maria Olympiade
DESCRIPTION:Am 22. August findet wieder die „Haus Maria Olympiade“ statt. Dabei gilt es nicht\, höchste sportliche Leistungen abzurufen\, sondern vielmehr werden die Leistungen an die Fähigkeiten unserer Bewohner/innen geknüpft.  Die einzelnen Disziplinen bestehen aus: \nZielwerfen mit Sandsäckchen aus unterschiedlichen Entfernungen\, das Angeln von Enten aus einem Fass bei dem viel Geschicklichkeit abverlangt wird oder dem Werfen von Klettbällchen auf eine Dartscheibe. Weitere Aufgaben bestehen aus dem Abwerfen von Dosen mit einem Tennisball und dem Kegeln mit einem Ball. Da unsere Heimbewohner teilweise eingeschränkte Fähigkeiten aufweisen\, haben wir uns bereits im Vorfeld Gedanken darüber gemacht\, wie wir die Defizite ausgleichen können. Dabei werden dann die Abstände bei dem Zielwerfen\, Kegeln etc. verkürzt und bei den übrigen Aufgaben Hilfestellung gegeben. \n  \n
URL:https://hausmaria.com/veranstaltungen/haus-maria-olympiade-2/
ATTACH;FMTTYPE=image/png:https://hausmaria.com/wp-content/uploads/Olympiade.png
END:VEVENT
END:VCALENDAR