BEGIN:VCALENDAR
VERSION:2.0
PRODID:-//Haus Maria Altenwohn- und Altenpflegeheim GmbH - ECPv4.6.20//NONSGML v1.0//EN
CALSCALE:GREGORIAN
METHOD:PUBLISH
X-WR-CALNAME:Haus Maria Altenwohn- und Altenpflegeheim GmbH
X-ORIGINAL-URL:https://hausmaria.com
X-WR-CALDESC:Veranstaltungen für Haus Maria Altenwohn- und Altenpflegeheim GmbH
BEGIN:VEVENT
DTSTART;TZID=Europe/Berlin:20180912T153000
DTEND;TZID=Europe/Berlin:20180912T190000
DTSTAMP:20260422T091050
CREATED:20180907T081627Z
LAST-MODIFIED:20180907T082038Z
UID:4692-1536766200-1536778800@hausmaria.com
SUMMARY:Federweißerfest
DESCRIPTION:Am 12. September 2018 feiern wir im Speisesaal ein Federweißerfest. Aufgrund des sehr warmen Sommers versprechen sich die Winzer in diesem Jahr einen sehr guten Wein. Lassen wir uns dann mal überraschen\, wie der erste Wein der Saison\, sprich der Ferderweißer\, schmeckt. Beginnen werden wir um 15:30 Uhr und dabei werden wir uns rund um den Wein unterhalten. Abschließend werden wir zum Abendessen Zwiebelkuchen und Flammkuchen servieren. \n
URL:https://hausmaria.com/veranstaltungen/federweisserfest/
ATTACH;FMTTYPE=image/png:https://hausmaria.com/wp-content/uploads/Federweißer-1.png
END:VEVENT
END:VCALENDAR